BEGIN:VCALENDAR
VERSION:2.0
PRODID:-//STAI MA’ARIF MAGETAN - ECPv6.15.11//NONSGML v1.0//EN
CALSCALE:GREGORIAN
METHOD:PUBLISH
X-ORIGINAL-URL:https://www.staimmgt.ac.id
X-WR-CALDESC:Events for STAI MA’ARIF MAGETAN
REFRESH-INTERVAL;VALUE=DURATION:PT1H
X-Robots-Tag:noindex
X-PUBLISHED-TTL:PT1H
BEGIN:VTIMEZONE
TZID:Asia/Jakarta
BEGIN:STANDARD
TZOFFSETFROM:+0700
TZOFFSETTO:+0700
TZNAME:WIB
DTSTART:20240101T000000
END:STANDARD
END:VTIMEZONE
BEGIN:VEVENT
DTSTART;TZID=Asia/Jakarta:20260202T133000
DTEND;TZID=Asia/Jakarta:20260202T170000
DTSTAMP:20260421T195902
CREATED:20251022T035840Z
LAST-MODIFIED:20251028T091153Z
UID:10000003-1770039000-1770051600@www.staimmgt.ac.id
SUMMARY:Masuk Perkuliahan Genap TA 25/26
DESCRIPTION:Masuk perkuliahan semester genap tahun akademik 2025/2026
URL:https://www.staimmgt.ac.id/event/perkuliahan-semester-genap-ta-2025-26/
LOCATION:STAIM Magetan\, Jl. Raya Maospati-Ngawi\, Baluk\, Karangrejo\, Magetan\, Jawa Timur\, Indonesia
CATEGORIES:Agenda
ATTACH;FMTTYPE=image/webp:https://www.staimmgt.ac.id/wp-content/uploads/2025/10/Berita-2-scaled.webp
END:VEVENT
BEGIN:VEVENT
DTSTART;TZID=Asia/Jakarta:20260105T080000
DTEND;TZID=Asia/Jakarta:20260105T130000
DTSTAMP:20260421T195902
CREATED:20251103T072431Z
LAST-MODIFIED:20251103T072431Z
UID:10000006-1767600000-1767618000@www.staimmgt.ac.id
SUMMARY:Pembukaan KKNP 2026
DESCRIPTION:Pembukaan Kuliah Kerja Nyata Partisipatoris (KKNP) STAIM Magetan \n 
URL:https://www.staimmgt.ac.id/event/pembukaan-kknp-2026/
LOCATION:Pendopo Kecamatan Ngariboyo
CATEGORIES:Agenda
ATTACH;FMTTYPE=image/webp:https://www.staimmgt.ac.id/wp-content/uploads/2025/11/Berita-3-1.webp
END:VEVENT
BEGIN:VEVENT
DTSTART;VALUE=DATE:20260105
DTEND;VALUE=DATE:20260306
DTSTAMP:20260421T195902
CREATED:20251103T073645Z
LAST-MODIFIED:20251103T073645Z
UID:10000007-1767571200-1772755199@www.staimmgt.ac.id
SUMMARY:Pelaksanaan KKNP 2026
DESCRIPTION:KKNP STAI Ma’arif Magetan dilaksanakan pada tanggal 5 Januari s.d 5 Maret 2026 \nLokasi KKNP : Kecamatan Ngariboyo Kabupaten Magetan \nPendaftaran dibuka tanggal 10 November 2025 s.d 11 Desember 2025 \nInformasi lebih lanjut mengenai persyaratan dan pendaftaran selengkapnya di staimmgt.ac.id/pengumuman
URL:https://www.staimmgt.ac.id/event/pelaksanaan-kknp-2026/
LOCATION:Kecamatan Ngariboyo Magetan
CATEGORIES:Agenda
ATTACH;FMTTYPE=image/png:https://www.staimmgt.ac.id/wp-content/uploads/2025/11/Berita-4.png
END:VEVENT
BEGIN:VEVENT
DTSTART;TZID=Asia/Jakarta:20251221T130000
DTEND;TZID=Asia/Jakarta:20251221T170000
DTSTAMP:20260421T195902
CREATED:20251102T045558Z
LAST-MODIFIED:20251102T045558Z
UID:10000005-1766322000-1766336400@www.staimmgt.ac.id
SUMMARY:Pembekalan KKNP 2026
DESCRIPTION:Pembekalan KKN Partisipatoris (KKNP) STAIM Magetan Tahun 2026
URL:https://www.staimmgt.ac.id/event/pembekalan-kknp-2026/
LOCATION:Aula STAIM Magetan
CATEGORIES:Agenda
ATTACH;FMTTYPE=image/webp:https://www.staimmgt.ac.id/wp-content/uploads/2025/11/Berita-3.webp
END:VEVENT
BEGIN:VEVENT
DTSTART;VALUE=DATE:20251215
DTEND;VALUE=DATE:20251216
DTSTAMP:20260421T195902
CREATED:20251021T120559Z
LAST-MODIFIED:20251028T091342Z
UID:10000002-1765756800-1765843199@www.staimmgt.ac.id
SUMMARY:UAS Semester Ganjil 25/26
DESCRIPTION:Ujian Akhir Semester Ganjil TA 2025/2026
URL:https://www.staimmgt.ac.id/event/uas/
LOCATION:STAIM Magetan\, Jl. Raya Maospati-Ngawi\, Baluk\, Karangrejo\, Magetan\, Jawa Timur\, Indonesia
CATEGORIES:Agenda
ATTACH;FMTTYPE=image/webp:https://www.staimmgt.ac.id/wp-content/uploads/2025/10/Berita-1-1-scaled.webp
END:VEVENT
BEGIN:VEVENT
DTSTART;TZID=Asia/Jakarta:20251115T080000
DTEND;TZID=Asia/Jakarta:20251115T120000
DTSTAMP:20260421T195902
CREATED:20251028T053411Z
LAST-MODIFIED:20251028T091432Z
UID:10000004-1763193600-1763208000@www.staimmgt.ac.id
SUMMARY:Kuliah Umum
DESCRIPTION:Kuliah Umum semester ganjil tahun akademik 2025/2026 \nPendaftaran : 27 Okt s.d 10 November 2025 (Semester VII/Lebih) \nPendaftaran Semester I-V : 3  s.d 10 November 2025 \nLink Pendaftaran : s.id/kuliahumumganjil2025
URL:https://www.staimmgt.ac.id/event/kuliah-umum/
LOCATION:Aula STAIM Magetan
CATEGORIES:Agenda
ATTACH;FMTTYPE=image/webp:https://www.staimmgt.ac.id/wp-content/uploads/2025/10/Berita-scaled.webp
END:VEVENT
END:VCALENDAR